Workbook

Sheet I.Personal_Info
B1: <For office use only> DBS事務番号↓ | D1: <For office use only> 受験番号↓
B3: 2027 Entry Application Form Global Business and Management Studies, Doshisha Business School
B4: Ⅰ. Personal Information
B5: Full Legal Name: In alphabet(Roman capital letters as shown in your passport)
B6: First/Given | C6: Middle (if any) | D6: Last/Family (if any)
B8: In Japanese (write your name phonetically in Katakana)
B9: First/Given | C9: Middle (if any) | D9: Last/Family (if any)
B11: Gender: | C11: Nationality:
B13: Date of Birth: Year(YYYY) | C13: Month(MM) | D13: Date(DD)
B15: Current Address:
B17: Postal Code | C17: Country
B19: Telephone number: Landline | C19: Mobile | D19: E-mail (PC): _
B21: Home country address (IF different from "current address"):
B23: Postal Code | C23: Country
B26: (If you are already in Japan) Status of Residence:
B28: Valid until: Year (YYYY) | C28: Month (MM) | D28: Date (DD)
B30: If your application is successful, do you hope to continue residing in Japan until enrollment?
B32: Do you wish to switch to Student from your current status of residence after enrollment?
B35: NOTE: Doshisha University will NOT issue the visa BEFORE the student enrollment.
B36: (If you are already in Japan) What is your affiliation until enrollment?
B37: Name of Affiliation: (e.g. Name of school, company and etc.)
B39: Period (Start) Year (YYYY) | C39: Month (MM) | D39: Date (DD)
B41: Period (End) Year (YYYY) | C41: Month (MM) | D41: Date (DD)

Sheet II.Educational_Background
B2: Ⅱ. Educational Background
B3: List, in chronological order, ALL the schools you attended and are attending, starting from elementary school.
B4: Count the length of enrollment on academic year basis.
B5: <<Example>> | D5: Place | F5: Period of Enrollment | K5: Length of Enrollment | M5: Degree obtained or
C6: School Name | D6: City | E6: Country | F6: YYYY | G6: MM | I6: YYYY | J6: MM | K6: Years | L6: Months | M6: expected
B7: College/ University * | C7: Doshisha University | D7: Kyoto | E7: Japan | F7: 2010 | G7: 4 | H7: to | I7: 2014 | J7: 3 | K7: 4 | L7: 0 | M7: Bachelor's Degree
D9: Place | F9: Period of Enrollment | K9: Length of Enrollment | M9: Degree obtained or
C10: School Name | D10: City | E10: Country | F10: YYYY | G10: MM | I10: YYYY | J10: MM | K10: Years | L10: Months | M10: expected
B11: Elementary School_ | H11: to
B12: Jr. High School_ | H12: to
B13: High School_ | H13: to
B14: College/___ University** | H14: to
B15: College/___ University** | H15: to
B16: Graduate School ** | H16: to
B17: Other_ | H17: to
B18: * Study period during Language Programs or schools CANNOT be included to this. | F18: * Total length of enrollment (education which issues a degree or diploma)
B19: If your total length of enrollment is less than 16 years, you are advised to consult with the office in advance to confirm your academic eligibility.
B20: ** As for undergraduate/graduate schools, please state your Faculty, Department and Major based on your educational background below.
C21: School Name
B22: Undergraduate | C22: Faculty
C23: Department
C24: Major
C25: School Name
B26: Graduate | C26: Faculty
C27: Department
C28: Major

Sheet III.Professional_Background
B2: Ⅲ. Professional Background
B4: List ALL positions in chronological order (No. 1: most Latest ～ No.5: most oldest).
B5: For applicants who will keep the current job until the time of enrollment, please fill in "Period of Employment" as YYYY/MM TO 2027/09.
B6: For applicants through "Doshisha Undergraduate Student Recommendation" scheme: List your part-time work, internship or volunteer experiences.
B7: No. | C7: Company/Organization | D7: Place of Work | F7: Period of Employment | K7: Length of Employment | M7: Job Specifications, | N7: Full-time/ Part-time/
C8: (Name in Full) | D8: City | E8: Country | F8: YYYY | G8: MM | I8: YYYY | J8: MM | K8: Years | L8: Months | M8: Job Title | N8: Intern/ Volunteer
B9: 1 | H9: to
B10: 2 | H10: to
B11: 3 | H11: to
B12: 4 | H12: to
B13: 5 | H13: to
D14: ①Total FULL-time professional experience AFTER receiving Bachelor Degree *Period as an “Part-time, Intern, Volunteer” CANNOT be included
D15: ②Total other professional experience (Part-time, Intern, Volunteer) *Full-time professional experience before receiving Bachelor Degree can be included
J16: Total overall professional experience (①+②)
B18: Current or Most Recent Employment
C19: *For applicants through "Doshisha Undergraduate Student Recommendation" scheme: Not required to fill in the below "Work Experience".
C20: Name of Company or Organization:
C22: Address:
C24: E-mail address | D24: Telephone: | E24: Number of Employees:
C26: Nature of Business
C28: Department: | E28: Current Job Title:

Sheet IV.Proficiency
B2: Ⅳ. Proficiency
B4: GMAT® / GRE® score
B5: Test name | C5: Test Date | F5: Score
C6: YYYY | D6: MM | E6: DD
C8: ※Score report (original) must be submitted via test center.
B10: English Language Test score
B11: Q. Are you a native English speaker or have you graduated (or expect to graduate) from
B12: a university where the language of instruction was English? | E12: A.
B13: If YES, | C13: please select which type
B15: If NO, | C15: you are required to demonstrate proficiency in the language by submitting a score from a recognized English language test. Please indicate your score below and submit an official score report.
B16: * Under certain circumstances, applicants who select YES may be required to submit supporting documentation
B17: or an English language test score. To verify your eligibility and required documents for submission,
B18: please apply for the Information Session in advance.
B19: Test name | C19: Test Date | F19: Score
C20: YYYY | D20: MM | E20: DD
C22: ※Score report (original) must be submitted.
B24: Language Ability
B25: Language | F25: Proficiency Self-Evaluation
D26: English
D27: Japanese
B28: Other languages
B29: (Mother tongue or if any)
B31: Japanese language proficiency | C31: *Japanese language proficiency is NOT a requirement for admission.
B32: (JLPT Score) | C32: However, if you have passed the Japanese Language Proficiency Test,
C33: please indicate the test date and the level of examination,
C34: and submit the PDF SCAN of the score sheet with the DIGITAL application.
B35: Test name | C35: Test Date | F35: Score
C36: YYYY | D36: MM | E36: DD | F36: (Ex: N1/N2/N3)
B37: JLPT (Japanese-Language Proficiency Test)

Sheet V.Self-Evaluation
B2: Ⅴ．Self-Evaluation
B3: (1) Work Experience
B4: ■Please give a detailed description of your position indicated at 'Current or Most Recent Employment' in ”Ⅲ. Professional Background”, including the nature of work, major responsibilities, employees under your supervision, size of the budget under your control, and results achieved. With regard to the results achieved, please give details of your specific contribution to that outcome.
B9: (2) Academic Achievements
B10: ■Please give a description of your specific study or research themes at graduate/undergraduate levels. Please also give details of any other areas of study you have pursued after leaving university, explaining why you have chosen them here.
B15: (3) Achievements in Business
B16: ※For applicants through the "Doshisha Undergraduate Student Recommendation" scheme: Not required to fill in the below "(3): Achievements in Business". ■Please give an account of the most important business experience in your career thus far, with particular reference to any instances in which you feel your leadership helped to overcome a particularly difficult problem.
B21: (4) Other Activities
B22: ■Please list any experiences of a non-business/non-academic nature (such as extracurricular activity or community work) as well as any special qualifications you have which you consider relevant to your application. Please state in what way you feel you have benefited from those achievements and what value you might add to our program.
B27: (5) Personal Statement
B28: ■Please describe the subject areas you are interested in pursuing within our program, and how you plan to make use of your MBA education in your future career. Also, please indicate how you think you will be able to contribute to the educational experience of your classmates, and to global society in the future.

Sheet VI.Labels＆VII.Return_of_Docs
B2: Ⅵ．Mailing Labels
B4: Please write accurately your name and address (normally your current address)
B5: that you would like the documents to be sent.
B6: If it is the same address as P.1 please align the order and the detail written on P.1
B8: Name
B9: Address1 (Room No., Building, Street)
B10: Address2 (City, Region, State)
B11: Address3 (Country)
B12: Postal code
B14: Ⅶ．REQUEST FOR RETURN OF DOCUMENTS
B16: Do you wish the application documents to be returned?
B18: IF YES, please specify the documents to be returned by checking the list below.
... B21: Please note that only documents which cannot be reissued may be returned.
D23: Diploma
D25: Transcript
D27: Certificate of Graduation
D29: Official Language Score Sheet
D31: Other
C32: Name the document:
B33: IF NO (or the box above is left in BLANK), the documents will NOT be returned.

Sheet Final Check List
B2: FINAL CHECK LIST (BEFORE Application Submission)
C3: tick↓
B4: Application Form
B5: Mailing Labels
B6: Request for Return of Documents
B7: *University Graduation Certificate(s)
B8: *Academic Transcript(s)
B9: **Letters of Recommendation
B10: Letter of Consent from the employer (Only for company recommendation)
B11: Certificate of English Language Proficiency (If required)
B12: Personal Identification Material(s)
B13: Application Fee Receipt
B14: Digital Photo Data
B15: GMAT®/GRE® Official score report (Submit via test center)
B16: Work Experience Statement (If necessary)
C17: *The PDF submitted directly by the applicant cannot be accepted.
C18: **The recommendation letters must be written using the prescribed form.
B19: Application Submission by E-mail 【DIGITAL VERSION】
B20: Documents below must be subitted via email to ji-gmba@mail.doshisha.ac.jp
B21: i. Completed application form (Excel format)
B22: ii. Digital photograph (.jpg or.png)
B23: iii. Personal Identification Material(s) (PDF or .jpg/.png)
B24: iv. Application Fee Receipt (PDF or .jpg/.png)
B25: v. Work Experience Statement (PDF, if required)
B26: Regarding the Application Form: The filled in "EXCEL FILE (NOT PDF)" MUST be submitted.
B27: Excel file name and email title should be “APPLICANT NAME_SUBMISSION of 2026 Formal Application”.
B29: Application Submission by Post 【HARD COPIES】
B30: Documents indicated as requiring submittion in hard-copy (refer to 3.2 Required Documentation)
B31: MUST be submitted by post.
... B42: TEL: +81-75-251-4600

Sheet プルダウン
A2: Bachelor's Degree | B2: FULL-time | C2: GMAT® | D2: TOEFL iBT® | E2: 3: Excellent | F2: N1 | G2: Native English Speaker | H2: Mr.
A3: Master's Degree | B3: PART-time | C3: GRE® | D3: IELTS™ (Academic Module) | E3: 2: Good | F3: N2 | G3: Medium instruction was English (I will submit the certificate or proof) | H3: Ms.
A4: Doctor's Degree | B4: Intern | D4: TOEIC® Listening and Reading Test | E4: 1: Fair | F4: N3
B5: Volunteer | D5: Cambridge Examination | E5: 0: Poor | F5: N4
F6: N5

Sheet 国コード
A2: AFG | B2: Afghanistan | C2: アフガニスタン
A3: ALA | B3: Aland Islands | C3: オーランド諸島
A4: ALB | B4: Albania | C4: アルバニア
A5: DZA | B5: Algeria | C5: アルジェリア
A6: ASM | B6: American Samoa | C6: アメリカ領サモア
A7: AND | B7: Andorra | C7: アンドラ
A8: AGO | B8: Angola | C8: アンゴラ
A9: AIA | B9: Anguilla | C9: アンギラ
A10: ATA | B10: Antarctica | C10: 南極
A11: ATG | B11: Antigua and Barbuda | C11: アンティグア・バーブーダ
A12: ARG | B12: Argentina | C12: アルゼンチン
A13: ARM | B13: Armenia | C13: アルメニア
... A250: ZWE | B250: Zimbabwe | C250: ジンバブエ

Sheet 出願データ
A1: DBS事務番号 | B1: 受験番号 | C1: 写真 | D1: First | E1: Middle | F1: Last | G1: ファースト | H1: ミドル | I1: ラスト | J1: Gender | K1: Nationality | L1: Date of Birth | M1: Current Address | N1: Current Address (Postal Code) | O1: Current Address (Country) | P1: Telephone number (Landline) | Q1: Telephone number (Mobile) | R1: E-mail (PC) | S1: Home country address | T1: Home country address (Postal Code) | U1: Home country address (Country) | V1: Status of Residence | W1: Status of Residence (Valid until) | X1: If your application is successful, do you hope to continue residing in Japan until enrollment? | Y1: Do you wish to switch to Student from your current status of residence after enrollment? | Z1: Name of Affiliation: (Ex: School, company and etc.) | AA1: Period (Start ) | AB1: Period (End) | AC1: Elementary School | AD1: Jr. High School | AE1: High School | AF1: College/University 1 | AG1: College/University 1 - Degree | AH1: College/University 2 | AI1: College/University 2 - Degree | AJ1: Graduate School | AK1: Graduate School - Degree | AL1: Other | AM1: Total length of enrollment (Years) | AN1: Total length of enrollment (Months) | AO1: Undergraduate: School Name | AP1: Undergraduate: Faculty | AQ1: Undergraduate: Department | AR1: Undergraduate: Major | AS1: Graduate: School Name | AT1: Graduate: Faculty | AU1: Graduate: Department | AV1: Graduate: Major | AW1: Company/Organization 1 | AX1: Company/Organization 2 | AY1: Company/Organization 3 | AZ1: Company/Organization 4 | BA1: Company/Organization 5 | BB1: ① Total FULL-time professional experience (Years) | BC1: ① Total FULL-time professional experience (Months) | BD1: ② Total other professional experience (Part-time, Intern, Volunteer) (Years) | BE1: ② Total other professional experience (Part-time, Intern, Volunteer) (Months) | BF1: Total overall professional experience (①+②) (Years) | BG1: Total overall professional experience (①+②) (Months) | BH1: Name of Company or Organization | BI1: Nature of Business | BJ1: Department | BK1: Current Job Title | BL1: Test name | BM1: Test Date | BN1: Score | BO1: Native English speaker or MOI was English? | BP1: If YES, please select which type | BQ1: Test name | BR1: Test Date | BS1: Score | BT1: English: self-evaluation | BU1: Japanese: self-evaluation | BV1: Other language 1 | BW1: Other 1: self-evaluation | BX1: Other language 2 | BY1: Other 2: self-evaluation | BZ1: JLPT Test Date | CA1: JLPT Score | CB1: Name | CC1: Address1 (Room No., Building, Street) | CD1: Address2 (City, Region, State) | CE1: Address3 (Country) | CF1: Postal code | CG1: Do you wish the application documents to be returned? | CH1: Diploma | CI1: Transcript | CJ1: Certificate of Graduation | CK1: Official Language Score Sheet | CL1: Other | CM1: Other Document
A2: =I.Personal_Info!$B$2 -> 0 | B2: =I.Personal_Info!$D$2 -> 0 | C2: =I.Personal_Info!$D$5 -> 0 | D2: =I.Personal_Info!$B$7 -> 0 | E2: =I.Personal_Info!$C$7 -> 0 | F2: =I.Personal_Info!$D$7 -> 0 | G2: =I.Personal_Info!$B$10 -> 0 | H2: =I.Personal_Info!$C$10 -> 0 | I2: =I.Personal_Info!$D$10 -> 0 | J2: =I.Personal_Info!$B$12 -> 0 | K2: =I.Personal_Info!$C$12 -> 0 | L2: =I.Personal_Info!$B$14&"/"&I.Personal_Info!$C$14&"/"&I.Personal_Info!$D$14 -> // | M2: =I.Personal_Info!$B$16 -> 0 | N2: =I.Personal_Info!$B$18 -> 0 | O2: =I.Personal_Info!$C$18 -> 0 | P2: =I.Personal_Info!$B$20 -> 0 | Q2: =I.Personal_Info!$C$20 -> 0 | R2: =I.Personal_Info!$D$20 -> 0 | S2: =I.Personal_Info!$B$22 -> 0 | T2: =I.Personal_Info!$B$24 -> 0 | U2: =I.Personal_Info!$C$24 -> 0 | V2: =I.Personal_Info!$B$27 -> 0 | W2: =I.Personal_Info!$B$29&"/"&I.Personal_Info!$C$29&"/"&I.Personal_Info!$D$29 -> // | X2: =I.Personal_Info!$B$31 -> 0 | Y2: =I.Personal_Info!$B$33 -> 0 | Z2: =I.Personal_Info!$B$38 -> 0 | AA2: =I.Personal_Info!$B$40&"/"&I.Personal_Info!$C$40&"/"&I.Personal_Info!$D$40 -> // | AB2: =I.Personal_Info!$B$42&"/"&I.Personal_Info!$C$42&"/"&I.Personal_Info!$D$42 -> // | AC2: =II.Educational_Background!$C$11 -> 0 | AD2: =II.Educational_Background!$C$12 -> 0 | AE2: =II.Educational_Background!$C$13 -> 0 | AF2: =II.Educational_Background!$C$14 -> 0 | AG2: =II.Educational_Background!$M$14 -> 0 | AH2: =II.Educational_Background!$C$15 -> 0 | AI2: =II.Educational_Background!$M$15 -> 0 | AJ2: =II.Educational_Background!$C$16 -> 0 | AK2: =II.Educational_Background!$M$16 -> 0 | AL2: =II.Educational_Background!$C$17 -> 0 | AM2: =II.Educational_Background!$K$18 -> 0 | AN2: =II.Educational_Background!$L$18 -> 0 | AO2: =II.Educational_Background!$D$21 -> 0 | AP2: =II.Educational_Background!$D$22 -> 0 | AQ2: =II.Educational_Background!$D$23 -> 0 | AR2: =II.Educational_Background!$D$24 -> 0 | AS2: =II.Educational_Background!$D$25 -> 0 | AT2: =II.Educational_Background!$D$26 -> 0 | AU2: =II.Educational_Background!$D$27 -> 0 | AV2: =II.Educational_Background!$D$28 -> 0 | AW2: =III.Professional_Background!$C$9 -> 0 | AX2: =III.Professional_Background!$C$10 -> 0 | AY2: =III.Professional_Background!$C$11 -> 0 | AZ2: =III.Professional_Background!$C$12 -> 0 | BA2: =III.Professional_Background!$C$13 -> 0 | BB2: =III.Professional_Background!$K$14 -> 0 | BC2: =III.Professional_Background!$L$14 -> 0 | BD2: =III.Professional_Background!$K$15 -> 0 | BE2: =III.Professional_Background!$L$15 -> 0 | BF2: =III.Professional_Background!$K$16 -> 0 | BG2: =III.Professional_Background!$L$16 -> 0 | BH2: =III.Professional_Background!$C$21 -> 0 | BI2: =III.Professional_Background!$C$27 -> 0 | BJ2: =III.Professional_Background!$C$29 -> 0 | BK2: =III.Professional_Background!$E$29 -> 0 | BL2: =IV.Proficiency!$B$7 -> 0 | BM2: =IV.Proficiency!$C$7&"/"&IV.Proficiency!$D$7&"/"&IV.Proficiency!$E$7 -> // | BN2: =IV.Proficiency!$F$7 -> 0 | BO2: =IV.Proficiency!$F$12 -> 0 | BP2: =IV.Proficiency!$D$14 -> 0 | BQ2: =IV.Proficiency!$B$21 -> 0 | BR2: =IV.Proficiency!$C$21&"/"&IV.Proficiency!$D$21&"/"&IV.Proficiency!$E$21 -> // | BS2: =IV.Proficiency!$F$21 -> 0 | BT2: =IV.Proficiency!F26 -> 0 | BU2: =IV.Proficiency!$F$27 -> 0 | BV2: =IV.Proficiency!$C$28 -> 0 | BW2: =IV.Proficiency!$F$28 -> 0 | BX2: =IV.Proficiency!$C$29 -> 0 | BY2: =IV.Proficiency!$F$29 -> 0 | BZ2: =IV.Proficiency!$C$37&"/"&IV.Proficiency!$D$37&"/"&IV.Proficiency!$E$37 -> // | CA2: =IV.Proficiency!$F$37 -> 0 | CB2: ='VI.Labels＆VII.Return_of_Docs'!$C$8&'VI.Labels＆VII.Return_of_Docs'!$D$8 | CC2: ='VI.Labels＆VII.Return_of_Docs'!$D$9 -> 0 | CD2: ='VI.Labels＆VII.Return_of_Docs'!$D$10 -> 0 | CE2: ='VI.Labels＆VII.Return_of_Docs'!$D$11 -> 0 | CF2: ='VI.Labels＆VII.Return_of_Docs'!$D$12 -> 0 | CG2: ='VI.Labels＆VII.Return_of_Docs'!$B$17 -> 0 | CH2: ='VI.Labels＆VII.Return_of_Docs'!$C$23 -> 0 | CI2: ='VI.Labels＆VII.Return_of_Docs'!$C$25 -> 0 | CJ2: ='VI.Labels＆VII.Return_of_Docs'!$C$27 -> 0 | CK2: ='VI.Labels＆VII.Return_of_Docs'!$C$29 -> 0 | CL2: ='VI.Labels＆VII.Return_of_Docs'!$C$31 -> 0 | CM2: ='VI.Labels＆VII.Return_of_Docs'!$D$32 -> 0

Sheet 宛名ラベル
B2: 【宛名ラベル】
B3: <1>
B4: Name | C4: ='VI.Labels＆VII.Return_of_Docs'!$C$8&'VI.Labels＆VII.Return_of_Docs'!$D$8
B5: Address1 (Room No., Building, Street) | C5: ='VI.Labels＆VII.Return_of_Docs'!$D$9&""
B6: Address2 (City, Region, State) | C6: ='VI.Labels＆VII.Return_of_Docs'!$D$10&""
B7: Address3 (Country) | C7: ='VI.Labels＆VII.Return_of_Docs'!$D$11&""
B8: Postal code | C8: ='VI.Labels＆VII.Return_of_Docs'!$D$12&""
B9: Examinee's number | C9: =I.Personal_Info!$D$2&""
B10: <2>
B11: Name | C11: ='VI.Labels＆VII.Return_of_Docs'!$C$8&'VI.Labels＆VII.Return_of_Docs'!$D$8
B12: Address1 (Room No., Building, Street) | C12: ='VI.Labels＆VII.Return_of_Docs'!$D$9&""
B13: Address2 (City, Region, State) | C13: ='VI.Labels＆VII.Return_of_Docs'!$D$10&""
B14: Address3 (Country) | C14: ='VI.Labels＆VII.Return_of_Docs'!$D$11&""
B15: Postal code | C15: ='VI.Labels＆VII.Return_of_Docs'!$D$12&""
B16: Examinee's number | C16: =I.Personal_Info!$D$2&""

Sheet RQST Letter
B2: Doshisha Business School Doshisha University Karasuma Imadegawa, Kamigyo-ku, Kyoto 602-8580, JAPAN TEL:+81-75-251-4600 FAX:+81-75-251-4710
B4: Letter for Return of Documents
B6: ="Dear "&'VI.Labels＆VII.Return_of_Docs'!C8&'VI.Labels＆VII.Return_of_Docs'!D8&"," -> Dear ,
B8: As per to your request, we would like to return you the application documents below.
B9: If you have any questions or concerns, please let us know.
C11: ='VI.Labels＆VII.Return_of_Docs'!$C$23 -> 0 | D11: Diploma
C13: ='VI.Labels＆VII.Return_of_Docs'!$C$25 -> 0 | D13: Transcript
C15: ='VI.Labels＆VII.Return_of_Docs'!$C$27 -> 0 | D15: Certificate of Graduation
C17: ='VI.Labels＆VII.Return_of_Docs'!$C$29 -> 0 | D17: Official Language Score Sheet
C19: ='VI.Labels＆VII.Return_of_Docs'!$C$31 -> 0 | D19: =" Other"&IF($C$19<>""," ("&'VI.Labels＆VII.Return_of_Docs'!$D$32&")","") -> Other ()
B21: Sincerely,
B22: Doshisha Business School Office
B23: E-mail: ji-gmba@mail.doshisha.ac.jp
B24: URL: https://gmba.doshisha.ac.jp/gmba/en/
